BEGIN:VCALENDAR
VERSION:2.0
PRODID:-//wp-events-plugin.com//7.2.3.1//EN
TZID:Europe/London
X-WR-TIMEZONE:Europe/London
BEGIN:VEVENT
UID:36@cycleways.org.uk
DTSTART;TZID=Europe/London:20260822T110000
DTEND;TZID=Europe/London:20260822T180000
DTSTAMP:20260113T160157Z
URL:https://www.cycleways.org.uk/events/warwickshire-pride-2/
SUMMARY:Warwickshire Pride
DESCRIPTION:Cycleways will have a stand again at Warwickshire Pride.\n\nCom
 e along and find out about cycling in Warwick District.\n\nDo you have ide
 as about how cycling facilities could be improved in Warwick District? Com
 e and let us know what they are so we can feed them into our campaigning p
 lans.
LOCATION:Pump Room Garden\, Dormer Place\, Leamington Spa\, Warwickshire\, 
 CV32 4AA\, United Kingdom
GEO:52.288077;-1.536213
X-APPLE-STRUCTURED-LOCATION;VALUE=URI;X-ADDRESS=Dormer Place\, Leamington S
 pa\, Warwickshire\, CV32 4AA\, United Kingdom;X-APPLE-RADIUS=100;X-TITLE=P
 ump Room Garden:geo:52.288077,-1.536213
END:VEVENT
BEGIN:VTIMEZONE
TZID:Europe/London
X-LIC-LOCATION:Europe/London
BEGIN:DAYLIGHT
DTSTART:20260329T020000
TZOFFSETFROM:+0000
TZOFFSETTO:+0100
TZNAME:BST
END:DAYLIGHT
END:VTIMEZONE
END:VCALENDAR