BEGIN:VCALENDAR
VERSION:2.0
PRODID:-//wp-events-plugin.com//7.2.3.1//EN
TZID:Europe/London
X-WR-TIMEZONE:Europe/London
BEGIN:VEVENT
UID:43@cycleways.org.uk
DTSTART;TZID=Europe/London:20260606T110000
DTEND;TZID=Europe/London:20260606T140000
DTSTAMP:20260213T155917Z
URL:https://www.cycleways.org.uk/events/st-marks-church-eco-fair/
SUMMARY:St Mark's Church Eco Fair
DESCRIPTION:Cycleways will have a stand at the St Mark's EcoFair.\n\nCome a
 long and find out about cycling in Warwick District.\n\nDo you have ideas 
 about how cycling facilities could be improved in Warwick District? Come a
 nd let us know what they are so we can feed them into our campaigning plan
 s.\n\n
CATEGORIES:Public Meetings
LOCATION:St Mark's Church\, Rugby Road\, Leamington Spa\, CV32 6DL\, United
  Kingdom
GEO:52.293825;-1.545446
X-APPLE-STRUCTURED-LOCATION;VALUE=URI;X-ADDRESS=Rugby Road\, Leamington Spa
 \, CV32 6DL\, United Kingdom;X-APPLE-RADIUS=100;X-TITLE=St Mark's Church:g
 eo:52.293825,-1.545446
END:VEVENT
BEGIN:VTIMEZONE
TZID:Europe/London
X-LIC-LOCATION:Europe/London
BEGIN:DAYLIGHT
DTSTART:20260329T020000
TZOFFSETFROM:+0000
TZOFFSETTO:+0100
TZNAME:BST
END:DAYLIGHT
END:VTIMEZONE
END:VCALENDAR